BEGIN:VCALENDAR
VERSION:2.0
PRODID:-//Library Market//iCal Export//EN
BEGIN:VEVENT
SUMMARY:Every Piece: Art by Brad Bianchi
UID:41553
DTSTAMP:20260421T044600Z
DTSTART:20260302T050000Z
DTEND:20260307T050000Z
LOCATION:Sharpsburg Community Library, 1212 Main St, Pittsburgh, PA 15215,
  United States
ROOM: SCL Gallery Wall
DESCRIPTION:Every Piece is a small collection of found objects puzzled int
 o new art by Brad Bianchi.Brad Bianchi is a Pittsburgh-born reuse artist a
 nd furniture maker. He collects discarded, forgotten objects and materials
  from the world around him. Brad has created everything from film props to
  conference tables, stages, large scale murals, found object sculptures, a
 nd more. His work lives in private collections around the country and in a
  few local small businesses around Pittsburgh. Most recently, a piece was 
 added to the Children Museum of Pittsburgh&#039;s permanent collection. Br
 ad&#039;s biggest form of inspiration comes from the natural world and all
  of its wonderful creatures. He also works seasonally as a pumpkin carver 
 and sculptor for the Jack-o-lantern Extravaganza at the Pittsburgh Zoo.Thi
 s art show is presented in collaboration with Evolve Coaching.25% of each 
 sale benefits the Sharpsburg Community Library.Every Piece will be on view
  daily through Monday 3/30.Join Brad for a Closing Reception on Saturday 3
 /28, 12pm-1:30pm. Light refreshments served.Find Brad on Instagram: @krii8
 it 
URL:https://coopersiegel.librarycalendar.com/event/every-piece-art-brad-bi
 anchi-41553
END:VEVENT
END:VCALENDAR
